BEGIN:VCALENDAR
VERSION:2.0
PRODID:-//The Boathouse - ECPv6.10.2//NONSGML v1.0//EN
CALSCALE:GREGORIAN
METHOD:PUBLISH
X-WR-CALNAME:The Boathouse
X-ORIGINAL-URL:https://www.landingmb.com
X-WR-CALDESC:Events for The Boathouse
REFRESH-INTERVAL;VALUE=DURATION:PT1H
X-Robots-Tag:noindex
X-PUBLISHED-TTL:PT1H
BEGIN:VTIMEZONE
TZID:America/New_York
BEGIN:DAYLIGHT
TZOFFSETFROM:-0500
TZOFFSETTO:-0400
TZNAME:EDT
DTSTART:20260308T070000
END:DAYLIGHT
BEGIN:STANDARD
TZOFFSETFROM:-0400
TZOFFSETTO:-0500
TZNAME:EST
DTSTART:20261101T060000
END:STANDARD
END:VTIMEZONE
BEGIN:VEVENT
DTSTART;TZID=America/New_York:20260425T200000
DTEND;TZID=America/New_York:20260425T230000
DTSTAMP:20260425T075626
CREATED:20260304T200728Z
LAST-MODIFIED:20260304T200728Z
UID:6774-1777147200-1777158000@www.landingmb.com
SUMMARY:100 Grand Band
DESCRIPTION:Saturday Night’s Live Sunny 103.1 FM Summer Concert Series\nThis event is inside on the KONA BIG WAVE stage*\nARTIST WEBSITES:\nhttps://www.facebook.com/The100grandband/
URL:https://www.landingmb.com/event/100-grand-band-8/
END:VEVENT
BEGIN:VEVENT
DTSTART;TZID=America/New_York:20260426T170000
DTEND;TZID=America/New_York:20260426T200000
DTSTAMP:20260425T075626
CREATED:20260305T013617Z
LAST-MODIFIED:20260305T013617Z
UID:6894-1777222800-1777233600@www.landingmb.com
SUMMARY:Krooked Kings
DESCRIPTION:Sunday Funday A&A Produce Summer Concert Series\nARTIST WEBSITES:\nhttps://www.krookedkings.band/
URL:https://www.landingmb.com/event/krooked-kings/
END:VEVENT
BEGIN:VEVENT
DTSTART;TZID=America/New_York:20260430T170000
DTEND;TZID=America/New_York:20260430T200000
DTSTAMP:20260425T075626
CREATED:20260305T035005Z
LAST-MODIFIED:20260305T035101Z
UID:6945-1777568400-1777579200@www.landingmb.com
SUMMARY:Futurebirds
DESCRIPTION:TICKETS $25 \nTickets: https://whollyticket.com/paymentpage/payment.php?event_id=84795 \nARTIST WEBSITES: \nhttps://www.futurebirdsmusic.com/
URL:https://www.landingmb.com/event/futurebirds/
END:VEVENT
END:VCALENDAR