BEGIN:VCALENDAR
VERSION:2.0
PRODID:-//The Boathouse - ECPv6.10.2//NONSGML v1.0//EN
CALSCALE:GREGORIAN
METHOD:PUBLISH
X-WR-CALNAME:The Boathouse
X-ORIGINAL-URL:https://www.landingmb.com
X-WR-CALDESC:Events for The Boathouse
REFRESH-INTERVAL;VALUE=DURATION:PT1H
X-Robots-Tag:noindex
X-PUBLISHED-TTL:PT1H
BEGIN:VTIMEZONE
TZID:America/New_York
BEGIN:DAYLIGHT
TZOFFSETFROM:-0500
TZOFFSETTO:-0400
TZNAME:EDT
DTSTART:20250309T070000
END:DAYLIGHT
BEGIN:STANDARD
TZOFFSETFROM:-0400
TZOFFSETTO:-0500
TZNAME:EST
DTSTART:20251102T060000
END:STANDARD
END:VTIMEZONE
BEGIN:VEVENT
DTSTART;TZID=America/New_York:20251003T203000
DTEND;TZID=America/New_York:20251003T233000
DTSTAMP:20260420T093149
CREATED:20251001T023635Z
LAST-MODIFIED:20251001T023635Z
UID:6689-1759523400-1759534200@www.landingmb.com
SUMMARY:City Lights
DESCRIPTION:New Country Gator 107.9’s Free Show Friday!\n*This event is inside on the KONA BIG WAVE stage*\nARTIST WEBSITES:\nhttps://www.facebook.com/CityLightsMGT/
URL:https://www.landingmb.com/event/city-lights/
END:VEVENT
BEGIN:VEVENT
DTSTART;TZID=America/New_York:20251010T203000
DTEND;TZID=America/New_York:20251010T233000
DTSTAMP:20260420T093149
CREATED:20251001T023929Z
LAST-MODIFIED:20251001T023929Z
UID:6693-1760128200-1760139000@www.landingmb.com
SUMMARY:Black Glass
DESCRIPTION:New Country Gator 107.9’s Free Show Friday!\n*This event is inside on the KONA BIG WAVE stage*\nARTIST WEBSITES:\nhttps://www.ronnierogers.com/blackglass/index.html
URL:https://www.landingmb.com/event/black-glass-2/
END:VEVENT
BEGIN:VEVENT
DTSTART;TZID=America/New_York:20251017T203000
DTEND;TZID=America/New_York:20251017T233000
DTSTAMP:20260420T093149
CREATED:20251001T023807Z
LAST-MODIFIED:20251001T023807Z
UID:6691-1760733000-1760743800@www.landingmb.com
SUMMARY:Thomas Road
DESCRIPTION:New Country Gator 107.9’s Free Show Friday!\n*This event is inside on the KONA BIG WAVE stage*\nARTIST WEBSITES:\nhttps://www.thomasroadmusic.com/
URL:https://www.landingmb.com/event/thomas-road-5/
END:VEVENT
BEGIN:VEVENT
DTSTART;TZID=America/New_York:20251024T203000
DTEND;TZID=America/New_York:20251024T233000
DTSTAMP:20260420T093149
CREATED:20251001T024054Z
LAST-MODIFIED:20251001T024221Z
UID:6695-1761337800-1761348600@www.landingmb.com
SUMMARY:King Tide
DESCRIPTION:New Country Gator 107.9’s Free Show Friday!\n*This event is inside on the KONA BIG WAVE stage*\nARTIST WEBSITES:\nhttps://www.facebook.com/kingtideband/
URL:https://www.landingmb.com/event/king-tide-4/
END:VEVENT
BEGIN:VEVENT
DTSTART;TZID=America/New_York:20251026T130000
DTEND;TZID=America/New_York:20251026T210000
DTSTAMP:20260420T093149
CREATED:20251001T024524Z
LAST-MODIFIED:20251001T024524Z
UID:6697-1761483600-1761512400@www.landingmb.com
SUMMARY:Y'ALLTOBERFEST
DESCRIPTION:Vendors TBA open at 1pm\, music starts at 2pm. The Boathouse…in season\, every season! \nEntertainment TBA!
URL:https://www.landingmb.com/event/yalltoberfest/
END:VEVENT
BEGIN:VEVENT
DTSTART;TZID=America/New_York:20251031T203000
DTEND;TZID=America/New_York:20251031T233000
DTSTAMP:20260420T093149
CREATED:20251001T024635Z
LAST-MODIFIED:20251001T024635Z
UID:6699-1761942600-1761953400@www.landingmb.com
SUMMARY:100 Grand Band
DESCRIPTION:New Country Gator 107.9’s Free Show Friday!\n*This event is inside on the KONA BIG WAVE stage*\nARTIST WEBSITES:\nhttps://www.facebook.com/The100grandband/
URL:https://www.landingmb.com/event/100-grand-band-6/
END:VEVENT
END:VCALENDAR